BEGIN:VCALENDAR
VERSION:2.0
PRODID:-//LAC 30x30 - ECPv6.15.20//NONSGML v1.0//EN
CALSCALE:GREGORIAN
METHOD:PUBLISH
X-ORIGINAL-URL:https://lac30x30.com
X-WR-CALDESC:Eventos para LAC 30x30
REFRESH-INTERVAL;VALUE=DURATION:PT1H
X-Robots-Tag:noindex
X-PUBLISHED-TTL:PT1H
BEGIN:VTIMEZONE
TZID:America/Costa_Rica
BEGIN:STANDARD
TZOFFSETFROM:-0600
TZOFFSETTO:-0600
TZNAME:CST
DTSTART:20220101T000000
END:STANDARD
END:VTIMEZONE
BEGIN:VEVENT
DTSTART;VALUE=DATE:20231130
DTEND;VALUE=DATE:20231213
DTSTAMP:20260423T090301
CREATED:20231004T205158Z
LAST-MODIFIED:20231115T161103Z
UID:2705-1701302400-1702425599@lac30x30.com
SUMMARY:Conferencia de las Naciones Unidas sobre el Cambio Climático (UNFCCC COP 28)
DESCRIPTION:Para más información del evento puedes acceder al siguiente enlace: \nConferencia de las Naciones Unidas sobre el Cambio Climático (UNFCCC COP 28)\n \nUbicación: Dubai\, Emiratos Árabes Unidos \nPara mayor información comunícate con nosotros por medio de contacto. 
URL:https://lac30x30.com/event/conferencia-de-las-naciones-unidas-sobre-el-cambio-climatico-unfccc-cop-28/
ATTACH;FMTTYPE=image/jpeg:https://lac30x30.com/wp-content/uploads/2023/08/OIP-1.jpeg
END:VEVENT
BEGIN:VEVENT
DTSTART;VALUE=DATE:20231128
DTEND;VALUE=DATE:20231130
DTSTAMP:20260423T090301
CREATED:20231115T161332Z
LAST-MODIFIED:20231115T161946Z
UID:2719-1701129600-1701302399@lac30x30.com
SUMMARY:Contando con un futuro sostenible: Conferencia mundial sobre datos de género y medio ambiente
DESCRIPTION:Para más información del evento puedes acceder al siguiente enlace: \nContando con un futuro sostenible: Conferencia mundial sobre datos de género y medio ambiente.\n \nUbicación:  Dubai\, Emiratos Árabes Unidos \nPara mayor información comunícate con nosotros por medio de contacto. 
URL:https://lac30x30.com/event/contando-con-un-futuro-sostenible-conferencia-mundial-sobre-datos-de-genero-y-medio-ambiente/
ATTACH;FMTTYPE=image/png:https://lac30x30.com/wp-content/uploads/2023/11/uploads_4e1655c5-c2e6-4279-be5d-970de728d395_Logos-e1700065161599.png
END:VEVENT
BEGIN:VEVENT
DTSTART;VALUE=DATE:20231113
DTEND;VALUE=DATE:20231120
DTSTAMP:20260423T090301
CREATED:20231004T204150Z
LAST-MODIFIED:20231115T160759Z
UID:2703-1699833600-1700438399@lac30x30.com
SUMMARY:Tercera sesión del Comité Intergubernamental de Negociación sobre la contaminación por plásticos (INC-3)
DESCRIPTION:Para más información del evento puedes acceder al siguiente enlace: \nTercera sesión del Comité Intergubernamental de Negociación sobre la contaminación por plásticos (INC-3)\n \nUbicación: Nairobi\, Kenia \nPara mayor información comunícate con nosotros por medio de contacto. 
URL:https://lac30x30.com/event/tercera-sesion-del-comite-intergubernamental-de-negociacion-sobre-la-contaminacion-por-plasticos-inc-3/
ATTACH;FMTTYPE=image/jpeg:https://lac30x30.com/wp-content/uploads/2023/08/OIP-1.jpeg
END:VEVENT
BEGIN:VEVENT
DTSTART;VALUE=DATE:20231016
DTEND;VALUE=DATE:20231019
DTSTAMP:20260423T090301
CREATED:20230816T204736Z
LAST-MODIFIED:20230816T210547Z
UID:2001-1697414400-1697673599@lac30x30.com
SUMMARY:Comité Interregional para Europa\, Asia Septentrional y Central (ICENCA) - Reunión para la comunidad de Miembros de la UICN en Europa\, Asia Septentrional y Centra
DESCRIPTION:Para más información del evento puedes acceder al siguiente enlace: \nComité Interregional para Europa\, Asia Septentrional y Central (ICENCA) – Reunión para la comunidad de Miembros de la UICN en Europa\, Asia Septentrional y Centra\n \nUbicación: Ginebra\, Suiza \nPara mayor información comunícate con nosotros por medio de contacto. 
URL:https://lac30x30.com/event/comite-interregional-para-europa-asia-septentrional-y-central-icenca-reunion-para-la-comunidad-de-miembros-de-la-uicn-en-europa-asia-septentrional-y-centra/
ATTACH;FMTTYPE=image/jpeg:https://lac30x30.com/wp-content/uploads/2023/08/OIP-1.jpeg
END:VEVENT
BEGIN:VEVENT
DTSTART;VALUE=DATE:20231015
DTEND;VALUE=DATE:20231020
DTSTAMP:20260423T090301
CREATED:20231004T191937Z
LAST-MODIFIED:20231004T192642Z
UID:2697-1697328000-1697759999@lac30x30.com
SUMMARY:La UICN en la 25ª reunión del Órgano Subsidiario de Asesoramiento Científico\, Técnico y Tecnológico del CDB
DESCRIPTION:Para más información del evento puedes acceder al siguiente enlace: \nLa UICN en la 25ª reunión del Órgano Subsidiario de Asesoramiento Científico\, Técnico y Tecnológico del CDB \nUbicación: Nairobi\, Kenia \nPara mayor información comunícate con nosotros por medio de contacto. 
URL:https://lac30x30.com/event/la-uicn-en-la-25a-reunion-del-organo-subsidiario-de-asesoramiento-cientifico-tecnico-y-tecnologico-del-cdb/
ATTACH;FMTTYPE=image/jpeg:https://lac30x30.com/wp-content/uploads/2023/08/OIP-1.jpeg
END:VEVENT
BEGIN:VEVENT
DTSTART;VALUE=DATE:20231011
DTEND;VALUE=DATE:20231014
DTSTAMP:20260423T090301
CREATED:20230816T205119Z
LAST-MODIFIED:20230816T210505Z
UID:2005-1696982400-1697241599@lac30x30.com
SUMMARY:IUCN Leaders Forum 2023
DESCRIPTION:Para acceder debes tener una cuenta en IUCN. \nUbicación: Ginebra\, Suiza \nPara mayor información comunícate con nosotros por medio de contacto. 
URL:https://lac30x30.com/event/iucn-leaders-forum-2023/
ATTACH;FMTTYPE=image/jpeg:https://lac30x30.com/wp-content/uploads/2023/08/OIP-1.jpeg
END:VEVENT
BEGIN:VEVENT
DTSTART;VALUE=DATE:20231010
DTEND;VALUE=DATE:20231026
DTSTAMP:20260423T090301
CREATED:20230816T204250Z
LAST-MODIFIED:20230816T210254Z
UID:1998-1696896000-1698278399@lac30x30.com
SUMMARY:La 45ª reunión ampliada del Comité del Patrimonio Mundial de la UNESCO
DESCRIPTION:Para más información del evento puedes acceder al siguiente enlace: \nLa 45ª reunión ampliada del Comité del Patrimonio Mundial de la UNESCO \nUbicación: Riad\, Reino de Arabia Saudí \nPara mayor información comunícate con nosotros por medio de contacto.
URL:https://lac30x30.com/event/la-45a-reunion-ampliada-del-comite-del-patrimonio-mundial-de-la-unesco/
ATTACH;FMTTYPE=image/png:https://lac30x30.com/wp-content/uploads/2023/08/unesco.png
END:VEVENT
BEGIN:VEVENT
DTSTART;VALUE=DATE:20230417
DTEND;VALUE=DATE:20230418
DTSTAMP:20260423T090301
CREATED:20230126T135510Z
LAST-MODIFIED:20230126T135510Z
UID:403-1681689600-1681775999@lac30x30.com
SUMMARY:Taller Estrategia para el cumplimiento de 30x30
DESCRIPTION:
URL:https://lac30x30.com/event/taller-estrategia-para-el-cumplimiento-de-30x30/
ATTACH;FMTTYPE=image/jpeg:https://lac30x30.com/wp-content/uploads/2023/01/maxresdefault.jpg
ORGANIZER;CN="Omec's":MAILTO:omecs.zoomconferencias@gmail.com
END:VEVENT
BEGIN:VEVENT
DTSTART;VALUE=DATE:20230313
DTEND;VALUE=DATE:20230314
DTSTAMP:20260423T090301
CREATED:20230126T135022Z
LAST-MODIFIED:20230126T135637Z
UID:400-1678665600-1678751999@lac30x30.com
SUMMARY:Comienzo del Curso OMEC'S
DESCRIPTION:Bienvenido al comienzo del curso OMEC’s.
URL:https://lac30x30.com/event/comienzo-del-curso-omecs/
ORGANIZER;CN="Omec's":MAILTO:omecs.zoomconferencias@gmail.com
END:VEVENT
BEGIN:VEVENT
DTSTART;VALUE=DATE:20230131
DTEND;VALUE=DATE:20230201
DTSTAMP:20260423T090301
CREATED:20230126T135911Z
LAST-MODIFIED:20230126T135911Z
UID:407-1675123200-1675209599@lac30x30.com
SUMMARY:Presentación de estudio de biodiversidad de Bolivia
DESCRIPTION:
URL:https://lac30x30.com/event/presentacion-de-estudio-de-biodiversidad-de-bolivia/
ATTACH;FMTTYPE=image/jpeg:https://lac30x30.com/wp-content/uploads/2023/01/lake.jpg
ORGANIZER;CN="Omec's":MAILTO:omecs.zoomconferencias@gmail.com
END:VEVENT
END:VCALENDAR